BEGIN:VCALENDAR
VERSION:2.0
PRODID:-//wp-events-plugin.com//7.2.3.1//EN
TZID:Asia/Tokyo
X-WR-TIMEZONE:Asia/Tokyo
BEGIN:VEVENT
UID:724@osaka-kosodate-nishi.net
DTSTART;TZID=Asia/Tokyo:20251211T103000
DTEND;TZID=Asia/Tokyo:20251211T113000
DTSTAMP:20251210T011253Z
URL:https://osaka-kosodate-nishi.net/events/%e5%86%ac%e3%81%ae%e5%88%b6%e4
 %bd%9c%e3%80%8c%e8%87%aa%e5%88%86%e3%81%a0%e3%81%91%e3%81%ae%e5%b8%83%e7%b
 5%b5%e6%9c%ac%e3%80%8d/
SUMMARY:冬の制作「自分だけの布絵本」
DESCRIPTION:
ATTACH;FMTTYPE=image/jpeg:https://osaka-kosodate-nishi.net/wp-content/uplo
 ads/2025/11/冬の制作「自分だけの布絵本」-pdf.jpg
CATEGORIES:乳幼児,乳幼児保護者
LOCATION:西区子ども・子育てプラザ\, 本田３丁目７−２ 
 西区老人福祉センター\, 大阪市西区\, 大阪府\, 550-0022\, 
 日本
X-APPLE-STRUCTURED-LOCATION;VALUE=URI;X-ADDRESS=本田３丁目７−２ 
 西区老人福祉センター\, 大阪市西区\, 大阪府\, 550-0022\, 
 日本;X-APPLE-RADIUS=100;X-TITLE=西区子ども・子育てプラザ:geo
 :0,0
END:VEVENT
BEGIN:VTIMEZONE
TZID:Asia/Tokyo
X-LIC-LOCATION:Asia/Tokyo
BEGIN:STANDARD
DTSTART:20241211T103000
TZOFFSETFROM:+0900
TZOFFSETTO:+0900
TZNAME:JST
END:STANDARD
END:VTIMEZONE
END:VCALENDAR